BEGIN:VCALENDAR
VERSION:2.0
PRODID:-//DIVI Akademie//NONSGML kigkonsult.se iCalcreator 2.41.92//
CALSCALE:GREGORIAN
METHOD:PUBLISH
UID:66633138-3139-4464-b561-653762363662
X-WR-CALNAME:iCagenda
X-WR-CALDESC:Event Management Extension for Joomla!
X-WR-RELCALID:3E26604A-50F4-4449-8B3E-E4F4932D05B5
X-WR-TIMEZONE:UTC
BEGIN:VTIMEZONE
TZID:UTC
END:VTIMEZONE
BEGIN:VEVENT
UID:30336331-3562-4831-b166-303437396561
DTSTAMP:20260422T170548Z
CATEGORIES:Fort-/Weiterbildung
CLASS:PUBLIC
DESCRIPTION;ALTREP="CID:<FFFF__=0ABBE548DFE235B58f9e8a93d@coffeebean.com>":
 Liebe Kolleginnen und Kollegen\,nephrologische Expertise ist bei der Behan
 dlung von Intensivpatienten&nbsp\;oft gefragt und gefordert. Eine akuten N
 ierenfunktionsverschlechterung&nbsp\;ist eine häufige Komplikation bei&nbs
 p\;kritisch kranken Patienten\, eine Nierenersatztherapie wahrscheinlich&n
 bsp\;das am meisten angewandte Organersatzverfahren&nbsp\;auf der Intensiv
 station. Hinzu kommen Beurteilung des&nbsp\;Volumenstatus\, Elektrolytstör
 ungen\, Anpassung der Dosierung&nbsp\;von Medikamenten an die Nierenfunkti
 on sowie ein breites Feld&nbsp\;an Differentialdiagnosen wie Vaskulitiden 
 und thrombotische&nbsp\;Mikroangiopathien\, die Nephrologinnen und Nephrol
 ogen zu&nbsp\;wichtigen Partnern im interdisziplinären Behandlungsteam von
 &nbsp\;Intensivpatienten machen. Die moderne Intensivtherapie ist ein&nbsp
 \;sich rasch entwickelndes Feld von enormer Komplexität\, die in&nbsp\;Wei
 terbildungsprogrammen meist nur unvollständig abgebildet&nbsp\;werden kann
 .&nbsp\;Wir freuen uns daher\, Ihnen unseren Kurs »Nephrologische&nbsp\;In
 tensivtherapie« anbieten zu können. In dem Kurs werden&nbsp\;neben den Gru
 ndlagen insbesondere auch die Feinheiten&nbsp\;des nephrologischen Handeln
 s auf Intensivstationen vermittelt.Dabei werden in Kleingruppen und intera
 ktiv aktuelle&nbsp\;Diagnose- und Therapiestrategien der nephrologischen I
 ntensivtherapie&nbsp\;dargestellt und diskutiert. Neben aktuellem „Knowhow
 “&nbsp\;der nephrologischen Intensivtherapie gehen wir auf die&nbsp\;versc
 hiedenen Formen der Nierenersatztherapie\, deren fachgerechten&nbsp\;Einsa
 tz und die individualisierte Verordnung ein.&nbsp\;Komplettiert wird das P
 rogramm durch praktische Übungen und&nbsp\;interaktive Falldiskussionen.&n
 bsp\;\nZiel des Kurses ist es\, angehende\, ebenso wie bereits erfahrene&n
 bsp\;Nephrologinnen und Nephrologen zu kompetenten und entscheidungssicher
 en&nbsp\;Partnern in der modernen\, interdisziplinären&nbsp\;Intensivthera
 pie zu machen.Der Kurs gliedert sich inhaltlich in zwei Module á zwei Tage
 .&nbsp\;In den ersten beiden Tagen behandeln wir die konservative&nbsp\;ne
 phrologische Intensivmedizin\, in den letzten beiden Tagen&nbsp\;liegt der
  Schwerpunkt auf Nierenersatztverfahren auf der&nbsp\;Intensivstation. Bei
 de Module können auch einzeln gebucht und&nbsp\;besucht werden.\nWir freue
 n uns auf Ihre Teilnahme!\nMit freundlichen GrüßenDr. Nicole Bethke Prof. 
 Dr. Kai-Uwe EckardtProf. Dr. Philipp Enghard Prof. Dr. Martin K. Kuhlmann
DTSTART:20251013T091500Z
DTEND:20251016T160000Z
GEO:00;0
LOCATION:Berlin\, Vivantes Klinikum im Friedrichshain
ORGANIZER;CN=:mailto:info@akademie-niere.de
SEQUENCE:1
SUMMARY:Nephrologische Intensivtherapie
TRANSP:OPAQUE
URL:https://akademie.divi.de/veranstaltungskalender-kongresse-kurse-seminar
 e/3431-nephrologische-intensivtherapie
END:VEVENT
END:VCALENDAR
