BEGIN:VCALENDAR
VERSION:2.0
PRODID:-//DIVI Akademie//NONSGML kigkonsult.se iCalcreator 2.41.92//
CALSCALE:GREGORIAN
METHOD:PUBLISH
UID:31323963-6334-4936-b235-366133393437
X-WR-CALNAME:iCagenda
X-WR-CALDESC:Event Management Extension for Joomla!
X-WR-RELCALID:3E26604A-50F4-4449-8B3E-E4F4932D05B5
X-WR-TIMEZONE:UTC
BEGIN:VTIMEZONE
TZID:UTC
END:VTIMEZONE
BEGIN:VEVENT
UID:62366435-3432-4239-b062-333361306337
DTSTAMP:20260421T084710Z
CATEGORIES:Fort-/Weiterbildung
CLASS:PUBLIC
DESCRIPTION;ALTREP="CID:<FFFF__=0ABBE548DFE235B58f9e8a93d@coffeebean.com>":
 Die präklinische Versorgung mittels non-invasiver-Ventilation (NIV) von Me
 nschen mit pulmonalen Störungen\, respektive Erkrankungen ist ein weitgehe
 ndes\, etabliertes Verfahren.\nAllerdings beinhaltet die NIV auch viele kl
 einere und größere Fallstricke in ihrer Anwendung.\nDieser Kurs vermittelt
  neue und frischt bestehende Kenntnisse in Physiologie\, Pathophysiologie 
 und Anwendung der NIV auf. Ebenso werden Unterschiedlichkeiten der eingese
 tzten Geräte und Applikationen herausgearbeitet. Erfahrene Instruktoren be
 gleiten den ganzen Kurs über in Theorie und Praxis und helfen die kleinere
 n und größeren Fallstricke zu (er-)kennen und nicht daran zu scheitern. &n
 bsp\;\nPraktische Übungen finden an verschiedenen Simulatoren und auch unt
 er Aufsicht und Begleitung in der Möglichkeit von Selbsterfahrung statt.\n
 Zeit:&nbsp\; &nbsp\; &nbsp\; &nbsp\; &nbsp\; &nbsp\; &nbsp\; &nbsp\; &nbsp
 \; &nbsp\; &nbsp\;09:30-17:30\nKosten: &nbsp\;&nbsp\;&nbsp\;&nbsp\;&nbsp\;
 &nbsp\;&nbsp\;&nbsp\;&nbsp\;&nbsp\;&nbsp\;&nbsp\;&nbsp\; Ärzte € 629\,- (i
 ncl. 19% MwSt.) &nbsp\;- Aktionspreis € 499\,- (incl. 19% MwSt.)\n&nbsp\; 
 &nbsp\; &nbsp\; &nbsp\; &nbsp\; &nbsp\; &nbsp\; &nbsp\; &nbsp\; &nbsp\; &n
 bsp\; &nbsp\; &nbsp\; &nbsp\; NFS / RA / RS &nbsp\;&nbsp\; € 499\, - (incl
 . 19 % MwSt.)&nbsp\; - Aktionspreis € 389\,- (incl. 19% MwSt.)
DTSTART:20250715T093000Z
DTEND:20250715T173000Z
GEO:00;0
LOCATION:AQAI GmbH\, Simulationszentrum Mainz\, Wernher-von-Braun-Str. 9\, 
 55129 Mainz
ORGANIZER;CN=:mailto:es@aqai.de
SEQUENCE:1
SUMMARY:NIV in der Präklinik
TRANSP:OPAQUE
URL:https://akademie.divi.de/veranstaltungskalender-kongresse-kurse-seminar
 e/3121-niv-in-der-praeklinik
END:VEVENT
END:VCALENDAR
