BEGIN:VCALENDAR
VERSION:2.0
PRODID:-//DIVI Akademie//NONSGML kigkonsult.se iCalcreator 2.41.92//
CALSCALE:GREGORIAN
METHOD:PUBLISH
UID:38663136-6630-4762-a637-396132353630
X-WR-CALNAME:iCagenda
X-WR-CALDESC:Event Management Extension for Joomla!
X-WR-RELCALID:3E26604A-50F4-4449-8B3E-E4F4932D05B5
X-WR-TIMEZONE:UTC
BEGIN:VTIMEZONE
TZID:UTC
END:VTIMEZONE
BEGIN:VEVENT
UID:34636333-3831-4363-b832-396336613234
DTSTAMP:20260419T130956Z
CATEGORIES:Fort-/Weiterbildung
CLASS:PUBLIC
DESCRIPTION;ALTREP="CID:<FFFF__=0ABBE548DFE235B58f9e8a93d@coffeebean.com>":
 ACLS Provider-Kurse sind international anerkannte\, standardisierte und ze
 rtifizierte Fortbildungskurse im Bereich der kardiovaskulären Notfallmediz
 in. Die Fortbildung dauert zwei Tage.&nbsp\;Vier Wochen vor Kursbeginn erh
 alten Sie ein Lehrbuch in deutscher Sprache\, welches im Vorfeld von allen
  Teilnehmern selbstständig durchgearbeitet wird und alle nötigen Grundlage
 n in der Theorie vermittelt. Im Kurs liegt der Fokus auf praktischen Falls
 imulationen in Kleingruppen von maximal 6 Teilnehmern. Nach erfolgreichem 
 Kursabschluss erhalten die Teilnehmer ein offizielles ACLS-Zertifikat der 
 AHA mit weltweiter Gültigkeit.
DTSTART:20250814T080000Z
DTEND:20250815T170000Z
GEO:00;0
LOCATION:Kurort Seiffen
ORGANIZER;CN=:mailto:renebellmann@aol.com
SEQUENCE:1
SUMMARY:ACLS Provider
TRANSP:OPAQUE
URL:https://akademie.divi.de/veranstaltungskalender-kongresse-kurse-seminar
 e/2956-acls-provider
END:VEVENT
END:VCALENDAR
