BEGIN:VCALENDAR
VERSION:2.0
PRODID:-//DIVI Akademie//NONSGML kigkonsult.se iCalcreator 2.41.92//
CALSCALE:GREGORIAN
METHOD:PUBLISH
UID:30393730-6134-4433-b561-313461303164
X-WR-CALNAME:iCagenda
X-WR-CALDESC:Event Management Extension for Joomla!
X-WR-RELCALID:3E26604A-50F4-4449-8B3E-E4F4932D05B5
X-WR-TIMEZONE:UTC
BEGIN:VTIMEZONE
TZID:UTC
END:VTIMEZONE
BEGIN:VEVENT
UID:32656564-3934-4238-b735-643965333038
DTSTAMP:20260420T102123Z
CATEGORIES:Fort-/Weiterbildung
CLASS:PUBLIC
DESCRIPTION;ALTREP="CID:<FFFF__=0ABBE548DFE235B58f9e8a93d@coffeebean.com>":
 Der Advanced Cardial Life Support Experienced Provider Kurs (ACLS-EP) der 
 American Heart Association (AHA) baut auf den Kenntnissen des ACLS-Provide
 r Kurses auf.&nbsp\;Sie trainieren weiter\, wo die Nennung der H´s und T´s
  im ACLS Kurs aufgehört hat.&nbsp\;Intensiv trainieren Sie in Theorie und 
 Praxis\, Maßnahmen und Algorithmen zur Weiterbehandlung von Patienten.&nbs
 p\;Als Vorraussetzung zur Teilnahme benötigen Sie einen aktiven AHA ACLS P
 rovider Status. Der Kurs gilt als Refresher Kurs. Sie verlängern Ihren ACL
 S Status um weitere 2 Jahre.\nDer Kurspreis beträgt 549\,00€ inkl. Mittage
 ssen und Tagungsgetränke.
DTSTART:20250808T080000Z
DTEND:20250808T170000Z
GEO:00;0
LOCATION:Johanniter Akademie Münster\, Weissenburgstr. 60-64\, 48151 Münste
 r
ORGANIZER;CN=:mailto:fortbildung.akademie-nrw@johanniter.de
SEQUENCE:1
SUMMARY:AHA ACLS Experienced Provider
TRANSP:OPAQUE
URL:https://akademie.divi.de/veranstaltungskalender-kongresse-kurse-seminar
 e/2800-aha-acls-experienced-provider
END:VEVENT
END:VCALENDAR
