BEGIN:VCALENDAR
VERSION:2.0
PRODID:-//DIVI Akademie//NONSGML kigkonsult.se iCalcreator 2.41.92//
CALSCALE:GREGORIAN
METHOD:PUBLISH
UID:66346639-3735-4063-b963-323934333764
X-WR-CALNAME:iCagenda
X-WR-CALDESC:Event Management Extension for Joomla!
X-WR-RELCALID:3E26604A-50F4-4449-8B3E-E4F4932D05B5
X-WR-TIMEZONE:UTC
BEGIN:VTIMEZONE
TZID:UTC
END:VTIMEZONE
BEGIN:VEVENT
UID:36303966-3165-4066-b538-643862653364
DTSTAMP:20260421T081409Z
CATEGORIES:Kongress / Symposium
CLASS:PUBLIC
DESCRIPTION;ALTREP="CID:<FFFF__=0ABBE548DFE235B58f9e8a93d@coffeebean.com>":
 Das Intensivpflegesymposium bündelt das Expertenwissen aus der klinischen 
 Praxis und verbindet gleichzeitig die interprofessionelle Expertise aus Pf
 lege\, Medizin und Therapie. In einem vielseitigen Programm mit spannenden
  Vorträgen und Workshops wird auch in diesem Jahr wieder praxisrelevantes 
 Know-how vermittelt und der gemeinsame fachlichen Austausch ermöglicht.\nA
 m Vorabend des Symposiums (20.03.2025) sind die Teilnehmenden herzlich zu 
 einem festlichen Abendessen mit Keynote-Vortrag von Marina Ufelmann eingel
 aden.
DTSTART:20250320T163000Z
DTEND:20250321T163000Z
GEO:00;0
LOCATION:Klinikum Fürth Akademie
ORGANIZER;CN=:mailto:mirjam.schmidt@klinikum-fuerth.de
SEQUENCE:1
SUMMARY:Intensivpflegesymposium ICU&YOU
TRANSP:OPAQUE
URL:https://akademie.divi.de/veranstaltungskalender-kongresse-kurse-seminar
 e/2776-intensivpflegesymposium-icu-you
END:VEVENT
END:VCALENDAR
