BEGIN:VCALENDAR
VERSION:2.0
PRODID:-//DIVI Akademie//NONSGML kigkonsult.se iCalcreator 2.41.92//
CALSCALE:GREGORIAN
METHOD:PUBLISH
UID:66386636-6633-4561-b030-383738636638
X-WR-CALNAME:iCagenda
X-WR-CALDESC:Event Management Extension for Joomla!
X-WR-RELCALID:3E26604A-50F4-4449-8B3E-E4F4932D05B5
X-WR-TIMEZONE:UTC
BEGIN:VTIMEZONE
TZID:UTC
END:VTIMEZONE
BEGIN:VEVENT
UID:33643833-6234-4233-b763-366462613030
DTSTAMP:20260421T081219Z
CATEGORIES:Kongress / Symposium
CLASS:PUBLIC
DESCRIPTION;ALTREP="CID:<FFFF__=0ABBE548DFE235B58f9e8a93d@coffeebean.com>":
 Liebe Kolleginnen und Kollegen\, die Anästhesiologie und Intensivmedizin i
 st durch die Vielzahl an zu betreuenden Eingriffen und Patienten ein äußer
 st komplexes Fachgebiet. Dies macht es notwendig\, sich regelmäßig nicht n
 ur zu klassisch anästhesiologischen und intensivmedizinischen Frage- stell
 ungen\, sondern auch über fachübergreifende Forschungsergebnisse und deren
  Einfluss auf unsere Arbeit zu informieren.  Unser Abend-Kolloquium zu akt
 uellen klinisch- wissenschaftlichen Erkenntnissen findet seit 2019 als gem
 einsame Veranstaltung der anästhesiologischen Kliniken in Leipzig statt. U
 nser Ziel ist es\, verschiedene Themen der Anästhesie\, Intensivmedizin\, 
 Palliativversorgung sowie Notfall- und Schmerztherapie in interdisziplinär
 er Weise durch Experten auf dem Gebiet vorzustellen. Wir würden uns freuen
 \, wenn unsere Veranstaltung einmal pro Quartal einen festen Platz in Ihre
 m Weiterbildungskalender erhält.  Nachdem wir seit März 2021 sehr gute Erf
 ahrung und positives Feedback von allen Teilnehmern zur Onlineveranstaltun
 g gewonnen haben\, planen wir die Termine auch dieses Jahr weiter vollstän
 dig online. Die Dozenten und der Moderator werden dabei gemeinsam über uns
 er hauseigenes Sendestudio zu Ihnen nach Hause gebracht und freuen sich au
 f eine anregende Diskussion mit Ihnen.  Ihr Sebastian Stehr und Ihre Maria
  Theresa Völker\nPatient blood management:\n\n18:00 Uhr Patient blood mana
 gement – neue Entwicklungen und aktuelle Daten  Prof. Dr. Ulrike Steinbick
 er\n18:45 Uhr Patient blood management bei Kindern – wo stehen wir und was
  wissen wir?  Prof. Dr. Tobias Piegeler\n\nLaden Sie sich hier einen Flyer
  mit allen wichtigen Informationen herunter.
DTSTART:20241205T180000Z
DTEND:20241205T180000Z
GEO:00;0
LOCATION:Online
ORGANIZER;CN=:mailto:victoria.vleugels@medizin.uni-leipzig.de
SEQUENCE:1
SUMMARY:Webcast: Leipziger Reihe | Patient blood management
TRANSP:OPAQUE
URL:https://akademie.divi.de/veranstaltungskalender-kongresse-kurse-seminar
 e/2326-webcast-leipziger-reihe-patient-blood-management/2024-12-05-18-00
END:VEVENT
END:VCALENDAR
