BEGIN:VCALENDAR
VERSION:2.0
PRODID:-//DIVI Akademie//NONSGML kigkonsult.se iCalcreator 2.41.92//
CALSCALE:GREGORIAN
METHOD:PUBLISH
UID:32313061-3237-4364-b361-366265656535
X-WR-CALNAME:iCagenda
X-WR-CALDESC:Event Management Extension for Joomla!
X-WR-RELCALID:3E26604A-50F4-4449-8B3E-E4F4932D05B5
X-WR-TIMEZONE:UTC
BEGIN:VTIMEZONE
TZID:UTC
END:VTIMEZONE
BEGIN:VEVENT
UID:36333634-3435-4733-b139-333139663339
DTSTAMP:20260420T103303Z
CATEGORIES:Kongress / Symposium
CLASS:PUBLIC
DESCRIPTION;ALTREP="CID:<FFFF__=0ABBE548DFE235B58f9e8a93d@coffeebean.com>":
 Siehe beigefügter Flyer!
DTSTART:20250717T100000Z
DTEND:20250717T170000Z
GEO:00;0
LOCATION:Stuttgart
ORGANIZER;CN=:mailto:michael.luecking@uniklinik-freiburg.de
SEQUENCE:1
SUMMARY:4. Forum Organspende
TRANSP:OPAQUE
URL:https://akademie.divi.de/kongress-symposium/3021-4-forum-organspende
END:VEVENT
END:VCALENDAR
