BEGIN:VCALENDAR
VERSION:2.0
PRODID:-//DIVI Akademie//NONSGML kigkonsult.se iCalcreator 2.41.92//
CALSCALE:GREGORIAN
METHOD:PUBLISH
UID:61313063-3263-4936-b930-373036353361
X-WR-CALNAME:iCagenda
X-WR-CALDESC:Event Management Extension for Joomla!
X-WR-RELCALID:3E26604A-50F4-4449-8B3E-E4F4932D05B5
X-WR-TIMEZONE:UTC
BEGIN:VTIMEZONE
TZID:UTC
END:VTIMEZONE
BEGIN:VEVENT
UID:62643566-6238-4566-b437-323866363263
DTSTAMP:20260419T174222Z
CATEGORIES:Fortbildung nach DIVI
CLASS:PUBLIC
DESCRIPTION;ALTREP="CID:<FFFF__=0ABBE548DFE235B58f9e8a93d@coffeebean.com>":
 Das Kursformat richtet sich explizit an das komplette Behandlungsteam im S
 chockraum. Der Kurs ist maßgeschneidert für das deutsche Gesundheitssystem
  und bietet sowohl Berufsanfängern als auch erfahrenen Klinikern und Pfleg
 ekräften die Möglichkeit\, ihre Fähigkeiten zu erweitern und sich optimal 
 auf die Herausforderungen im Schockraum vorzubereiten.
DTSTART:20261215T090000Z
DTEND:20261216T170000Z
GEO:00;0
LOCATION:Asklepios Institut für Notfallmedizin
ORGANIZER;CN=:mailto:Info.ifn@asklepios.com
SEQUENCE:1
SUMMARY:TraumaManagement® Schockraum
TRANSP:OPAQUE
URL:https://akademie.divi.de/fortbildung-nach-divi/3936-traumamanagement-r-
 schockraum-32
END:VEVENT
END:VCALENDAR
