BEGIN:VCALENDAR
VERSION:2.0
PRODID:-//DIVI Akademie//NONSGML kigkonsult.se iCalcreator 2.41.92//
CALSCALE:GREGORIAN
METHOD:PUBLISH
UID:36386262-6562-4164-a536-646435386265
X-WR-CALNAME:iCagenda
X-WR-CALDESC:Event Management Extension for Joomla!
X-WR-RELCALID:3E26604A-50F4-4449-8B3E-E4F4932D05B5
X-WR-TIMEZONE:UTC
BEGIN:VTIMEZONE
TZID:UTC
END:VTIMEZONE
BEGIN:VEVENT
UID:33666239-6361-4366-a561-623439346539
DTSTAMP:20260420T115943Z
CATEGORIES:Fortbildung nach DIVI
CLASS:PUBLIC
DESCRIPTION;ALTREP="CID:<FFFF__=0ABBE548DFE235B58f9e8a93d@coffeebean.com>":
 Unsere Intensivtransportkurse richten sich nach dem Curriculum der Deutsch
 en Interdisziplinären Vereinigung für Intensiv- und Notfallmedizin (DIVI) 
 und verbinden fundiertes Wissen mit praxisnaher Anwendung – mit dem Ziel\,
  Teilnehmende optimal auf reale Einsatzsituationen vorzubereiten.\nDie Ver
 legung kritisch kranker oder verletzter Patientinnen und Patienten zwische
 n Krankenhäusern unterschiedlicher Versorgungsstufen nimmt durch zunehmend
 e Spezialisierungen stetig zu. Gleichzeitig erfordert der Intensivtranspor
 t spezifische Kenntnisse über Besonderheiten\, Risiken und Gefahren transp
 ortspezifischer Gegebenheiten\, um Patientensicherheit und Versorgungsqual
 ität auch außerhalb der Klinik zuverlässig zu gewährleisten.\nDer Kurs ric
 htet sich an: Ärzt:innen\, Notfallsanitäter:innen\, Rettungssanitäter:inne
 n\, Gesundheits- und Krankenpflegepersonal sowie Physician Assistants (PA)
 .\n\nDeine Kursinhalte auf einen Blick\n\nTheorie: Basis schaffen\nZu Begi
 nn stehen zentrale Grundlagen des Intensivtransports im Fokus: Besonderhei
 ten der Transportmedizin\, typische Risiken sowie häufige Krankheitsbilder
 \, die im Transportkontext relevant werden.\nPraxissationen &amp\; Worksho
 ps: Skills festigen\nIn praxisorientierten Workshops vertiefen Sie wichtig
 e Inhalte und Fertigkeiten – insbesondere zu\n\nBeatmung und Atemwegsmanag
 ement\,\nKreislauftherapie und hämodynamischem Management\,\nsowie weitere
 n Organersatztherapien.\n\nSzenarien: Handgriffe\, Teamarbeit\, Sicherheit
 \nDamit im Ernstfall jeder Handgriff sitzt\, trainieren Sie in interaktive
 n Szenarien den kompletten Ablauf – inklusive besonderer Patientengruppen.
  Unsere erfahrenen Trainer geben dabei konkrete Tipps\, teilen bewährte Vo
 rgehensweisen und machen auf typische Fehlerquellen aufmerksam.\nCRM &amp\
 ; Patientensicherheit\nRelevante Elemente aus dem Simulatortraining\, dem 
 Crew Resource Management (CRM) sowie zentrale Aspekte der Patientensicherh
 eit runden das Seminar ab.\nVoraussetzung: Der Kurs baut auf vorhandenem G
 rundwissen aus Intensivmedizin bzw. Notfallmedizin und Rettungsdienst auf.
  Basisthemen werden nicht erneut vermittelt\; der Fokus liegt auf den tran
 sportspezifischen Besonderheiten und dem praktischen Training.\n\n\n\nDein
  Mehrwert\n\n\nSimulation\, die wirklich vorbereitet: Realitätsnahe Szenar
 ien mit strukturiertem Debriefing.\nTeamwork &amp\; Sicherheit im Fokus: C
 RM-Prinzipien\, Kommunikation und typische Fehlerquellen werden in der Sim
 ulation sichtbar gemacht und gezielt verbessert.\n\n\n
DTSTART:20260327T064100Z
DTEND:20260329T064100Z
GEO:00;0
LOCATION:Best Western Plus Plaza Hotel Darmstadt
ORGANIZER;CN=:mailto:kurs@drk-starkenburg.de
SEQUENCE:1
SUMMARY:9. Darmstädter Intensivtransportkurs
TRANSP:OPAQUE
URL:https://akademie.divi.de/fortbildung-nach-divi/3807-9-darmstaedter-inte
 nsivtransportkurs
END:VEVENT
END:VCALENDAR
