BEGIN:VCALENDAR
VERSION:2.0
PRODID:-//DIVI Akademie//NONSGML kigkonsult.se iCalcreator 2.41.92//
CALSCALE:GREGORIAN
METHOD:PUBLISH
UID:37393634-6364-4535-b739-653464316461
X-WR-CALNAME:iCagenda
X-WR-CALDESC:Event Management Extension for Joomla!
X-WR-RELCALID:3E26604A-50F4-4449-8B3E-E4F4932D05B5
X-WR-TIMEZONE:UTC
BEGIN:VTIMEZONE
TZID:UTC
END:VTIMEZONE
BEGIN:VEVENT
UID:30363137-3737-4436-a365-333761373966
DTSTAMP:20260419T131217Z
CATEGORIES:Fortbildung nach DIVI
CLASS:PUBLIC
DESCRIPTION;ALTREP="CID:<FFFF__=0ABBE548DFE235B58f9e8a93d@coffeebean.com>":
 Profitieren Sie von unseren Experten aus allen Bereichen der Intensivmediz
 in in realitätsnahen Szenarien in unserem Simulationszentrum mit integrier
 tem Simulations-RTW.\nInhalt des Intensivtransport-Kurses\n\n\n\nGrundlage
 n und Expertenwissen der Notfallverlegung und des Intensivtransports\nHand
 lungsorientierte Kursinhalte zur Verbesserung der Struktur- und Prozessqua
 lität nach gültigen Leitlinien der medizinischen Fachgesellschaften\nGrund
 lagen und Umgang des erweiterten Monitorings\nGrundlagen der Pharmakologie
 \nRechtsgrundlagen\, Dokumentation und Qualitätssicherung\nBesonderheiten 
 spezieller Erkrankungen und Patientengruppen\, wie z.B. Polytraumata\, Sep
 sis\, pädiatrische Patienten oder der Einsatz von kardiopulmonalen Unterst
 ützungssystemen\nPraxisbeispiele im Simulationszentrum mit integriertem Si
 mulations-RTW\n\nAblauf des Kurses\nAn zwei Tagen in Präsenz sowie einem v
 orgeschaltetem eLearning lernen Sie alles\, was bei der Übernahme und der 
 Verlegung von Intensivpatienten in ein Krankenhaus wichtig ist. Theorie un
 d Praxis stehen gleichermaßen im Vordergrund und werden durch Vorträge\, D
 iskussionen und Simulationsübungen in Kleingruppen abgedeckt.\nIhre Vortei
 le\nOptimale Vorbereitung auf alle Anforderungen der interhospitalen Inten
 sivverlegung mit lückenlosen Trainingsmöglichkeiten vom Intensivbett der a
 bgebenden Klinik über den Transport des Patienten oder der Patientin bis z
 ur Übergabe in der aufnehmenden Klinik.\nSie erhalten am Ende des Kurses e
 ine&nbsp\;Teilnahmebescheinigung.&nbsp\;&nbsp\;\nZielgruppe\n\n\n\nDer Kur
 s richtet sich an Ärzte\, Ärtzinnen&nbsp\;und Rettungsdienstfachpersonal u
 nd berücksichtigt die Inhalte des Curriculums der Deutschen interdisziplin
 ären Vereinigung für Intensiv und Notfallmedizin (DIVI)\n\n\n\nKosten\n\n
 \n\n850\,00 EUR pro Teilnehmer:in\n\n\n\n
DTSTART:20250722T080000Z
DTEND:20250723T180000Z
GEO:00;0
LOCATION:Simulations- und Notfallakademie am Helios Klinikum Krefeld
ORGANIZER;CN=:mailto:sina.krefeld@helios-gesundheit.de
SEQUENCE:1
SUMMARY:ITK – Intensivtransportkurs nach DIVI\, 2-tägig mit vorgeschaltetem
  eLearning
TRANSP:OPAQUE
URL:https://akademie.divi.de/fortbildung-nach-divi/3116-itk-intensivtranspo
 rtkurs-nach-divi-2-taegig-mit-vorgeschaltetem-elearning
END:VEVENT
END:VCALENDAR
