BEGIN:VCALENDAR
VERSION:2.0
PRODID:-//DIVI Akademie//NONSGML kigkonsult.se iCalcreator 2.41.92//
CALSCALE:GREGORIAN
METHOD:PUBLISH
UID:39646337-6164-4637-b866-633666386564
X-WR-CALNAME:iCagenda
X-WR-CALDESC:Event Management Extension for Joomla!
X-WR-RELCALID:3E26604A-50F4-4449-8B3E-E4F4932D05B5
X-WR-TIMEZONE:UTC
BEGIN:VTIMEZONE
TZID:UTC
END:VTIMEZONE
BEGIN:VEVENT
UID:36633264-3264-4434-b361-633633666631
DTSTAMP:20260420T140801Z
CATEGORIES:Fort-/Weiterbildung
CLASS:PUBLIC
DESCRIPTION;ALTREP="CID:<FFFF__=0ABBE548DFE235B58f9e8a93d@coffeebean.com>":
 Die Ausbildung zum/zur ALS-TrainerIn (ohne Bindung an eine spezielle Fachg
 esellschaft) legt den Grundstein zur späteren selbstständigen Durchführung
  von Trainings im Bereich cardiovaskulärer Basis- und erweiterter Maßnahme
 n. Der Kurs schließt mit einer Teilnahmebescheinigung des IfN-Hamburg ab.
DTSTART:20260811T090000Z
DTEND:20260811T173000Z
GEO:00;0
LOCATION:Asklepios Institut für Notfallmedizin
ORGANIZER;CN=:mailto:Info.ifn@asklepios.com
SEQUENCE:1
SUMMARY:Train-the-Trainer ALS am IfN Hamburg
TRANSP:OPAQUE
URL:https://akademie.divi.de/fort-weiterbildung/3942-train-the-trainer-als-
 am-ifn-hamburg
END:VEVENT
END:VCALENDAR
