BEGIN:VCALENDAR
VERSION:2.0
PRODID:-//DIVI Akademie//NONSGML kigkonsult.se iCalcreator 2.41.92//
CALSCALE:GREGORIAN
METHOD:PUBLISH
UID:38393433-6130-4436-a139-643834636338
X-WR-CALNAME:iCagenda
X-WR-CALDESC:Event Management Extension for Joomla!
X-WR-RELCALID:3E26604A-50F4-4449-8B3E-E4F4932D05B5
X-WR-TIMEZONE:UTC
BEGIN:VTIMEZONE
TZID:UTC
END:VTIMEZONE
BEGIN:VEVENT
UID:66626362-3134-4930-b462-376165623961
DTSTAMP:20260421T081420Z
CATEGORIES:DIVI-Veranstaltungen
CLASS:PUBLIC
DESCRIPTION;ALTREP="CID:<FFFF__=0ABBE548DFE235B58f9e8a93d@coffeebean.com>":
 Liebe Kolleginnen und Kollegen\,\nihr seid herzlich eingeladen am 12.05.20
 26\, 20:15 Uhr zu den Sach- und Lachgeschichten der DIVI Sektion Pädiatris
 che Intensiv- und Notfallmedizin.\nOliver Berthold wird unter dem Titel „W
 as macht der Säugling in der Hanfplantage?“ zum Kinderschutz im Notfall re
 ferieren – ein hochrelevantes Thema prä- und innerklinisch und für alle Pr
 ofessionen!\nhttps://lmu-munich.zoom.us/j/66795639164?pwd=QmcxdkNhU0lYcUpy
 YXNpYUd5ZE9XQT09\nDas Teilnahmelimit liegt bei 300 Personen.\nVoller Vorfr
 eude\,\nVicky und Frida\nfür die AG Fortbildung der \nDIVI Sektion Pädiatr
 ische Intensiv- und Notfallmedizin
DTSTART:20260512T201500Z
DTEND:20260512T211500Z
GEO:00;0
LOCATION:Online
ORGANIZER;CN=:mailto:frida.regner@ukdd.de
SEQUENCE:1
SUMMARY:'Sach- und Lachgeschichten' der DIVI Sektion pädiatrische Intensiv-
  und Notfallmedizin: Kinderschutz im Notfall
TRANSP:OPAQUE
URL:https://akademie.divi.de/divi-veranstaltungen/3967-sach-und-lachgeschic
 hten-der-divi-sektion-paediatrische-intensiv-und-notfallmedizin-kinderschu
 tz-im-notfall
END:VEVENT
END:VCALENDAR
