BEGIN:VCALENDAR
VERSION:2.0
PRODID:-//DIVI Akademie//NONSGML kigkonsult.se iCalcreator 2.41.92//
CALSCALE:GREGORIAN
METHOD:PUBLISH
UID:38373566-3233-4635-a264-353730613431
X-WR-CALNAME:iCagenda
X-WR-CALDESC:Event Management Extension for Joomla!
X-WR-RELCALID:3E26604A-50F4-4449-8B3E-E4F4932D05B5
X-WR-TIMEZONE:UTC
BEGIN:VTIMEZONE
TZID:UTC
END:VTIMEZONE
BEGIN:VEVENT
UID:34623632-3562-4236-b431-313165646535
DTSTAMP:20260424T140709Z
CATEGORIES:DIVI-Veranstaltungen
CLASS:PUBLIC
DESCRIPTION;ALTREP="CID:<FFFF__=0ABBE548DFE235B58f9e8a93d@coffeebean.com>":
 Ängste\, Unsicherheit und Stresssituationen führen zu angespannten Situati
 onen und aggressiven Verhaltensweisen. In der Deeskalationsfortbildung ver
 mitteln wir Ihnen ein Konzept\, dass Sie befähigt\, präventiv tätig zu wer
 den und im aktuellen Fall\, verbal deeskalierend auf erregte Menschen einz
 uwirken.\nReferentin: Deeskalationsteam Freiburg /&nbsp\;Margareta Lukas\,
  Cand. B. A.\, Berufspädagogin im Gesundheitswesen und pädagogische Leiter
 in der Weiterbildung Notfallpflege am Universitätsklinikum Freiburg\nMail:
 &nbsp\;margareta.lukas@uniklinik-freiburg.de\nModeration: Vincent von Heyn
 itz\nMail:&nbsp\;vincent.heynitz@uniklinik-freiburg.de\n&nbsp\;
DTSTART:20260507T170000Z
DTEND:20260507T180000Z
GEO:00;0
LOCATION:online
ORGANIZER;CN=:mailto:vincent.heynitz@uniklinik-freiburg.de
SEQUENCE:1
SUMMARY:Webinar der Sektion 'ICU-Rehab': Sicher handeln in angespannten Sit
 uationen – Professionelle Deeskalation in der Praxis
TRANSP:OPAQUE
URL:https://akademie.divi.de/divi-veranstaltungen-webinare/3661-webinar-der
 -sektion-icu-rehab-sicher-handeln-in-angespannten-situationen-professionel
 le-deeskalation-in-der-praxis
END:VEVENT
END:VCALENDAR
