BEGIN:VCALENDAR
VERSION:2.0
PRODID:-//DIVI Akademie//NONSGML kigkonsult.se iCalcreator 2.41.92//
CALSCALE:GREGORIAN
METHOD:PUBLISH
UID:65663363-6564-4537-b066-306261323031
X-WR-CALNAME:iCagenda
X-WR-CALDESC:Event Management Extension for Joomla!
X-WR-RELCALID:3E26604A-50F4-4449-8B3E-E4F4932D05B5
X-WR-TIMEZONE:UTC
BEGIN:VTIMEZONE
TZID:UTC
END:VTIMEZONE
BEGIN:VEVENT
UID:34356264-6232-4637-b535-663335626235
DTSTAMP:20260420T102325Z
CATEGORIES:Fort-/Weiterbildung
CLASS:PUBLIC
DESCRIPTION;ALTREP="CID:<FFFF__=0ABBE548DFE235B58f9e8a93d@coffeebean.com>":
 KurszielEs ist die Zielsetzung dieses Kurses\, dem gesamten Team die Einfl
 üsse von „non-technical skills“ auf den Verlauf von Notfallsituationen auf
 zeigen. Dabei wird jedoch ebenso auf die fachlichen Fertigkeiten und die k
 linischen Aspekte im Umgang mit verschiedensten Zwischenfällen eingegangen
 . Im Zusammenspiel aus „Human Factors“ und medizinischen Fertigkeiten soll
  so dem Team ein strukturiertes und priorisierendes Vorgehen im Notfall er
 leichtert werden.\nInhaltDieser zweitägige Simulationsworkshop zum Zwische
 nfallsmanagement in der Anästhesie rückt den Einfluss von Human Factors au
 f den Verlauf und das Outcome von (Narkose-)Zwischenfällen in den Fokus.\n
 Dieses bewährte Ausbildungskonzept\, entwickelt aus dem „Crew Resource Man
 agement Training“ der zivilen Luftfahrt\, wird seit 2015 im Simulationszen
 trum Ernst von Bergmann durchgeführt. In den Simulationen erleben die Teil
 nehmer*innen Nachstellungen „echter“ Anästhesieverläufe mit Narkosezwische
 nfällen im Simulations-OP\, d.h. es wird ein Szenario vorgegeben und der w
 eitere Ablauf durch die Instruktoren gesteuert.\nJedes Szenario wird ansch
 ließend in einem sogenannten „Debriefing“ aufgearbeitet. Dieses Debriefing
  wird durch die Kursdozenten moderiert. Ziel ist es dabei\, die Human Fact
 or-Lernziele umzusetzen\, ein selbstreflexives Lernen zu induzieren und di
 e Motivation der Teilnehmer*innen zu stärken. Die Kurse folgen den Empfehl
 ungen der Deutschen Gesellschaft für Anästhesiologie und Intensivmedizin e
 .V. (DGAI).
DTSTART:20250131T160000Z
DTEND:20250201T160000Z
GEO:00;0
LOCATION:Simulationszentrum Potsdam
ORGANIZER;CN=:mailto:lisa.laser@klinikumevb.de
SEQUENCE:1
SUMMARY:CRM - Crisis Resource Management und Patientensicherheit
TRANSP:OPAQUE
URL:https://akademie.divi.de/alle/2849-crm-crisis-resource-management-und-p
 atientensicherheit
END:VEVENT
END:VCALENDAR
