BEGIN:VCALENDAR
VERSION:2.0
PRODID:-//DIVI Akademie//NONSGML kigkonsult.se iCalcreator 2.41.92//
CALSCALE:GREGORIAN
METHOD:PUBLISH
UID:37666136-6361-4239-a363-663030353235
X-WR-CALNAME:iCagenda
X-WR-CALDESC:Event Management Extension for Joomla!
X-WR-RELCALID:3E26604A-50F4-4449-8B3E-E4F4932D05B5
X-WR-TIMEZONE:UTC
BEGIN:VTIMEZONE
TZID:UTC
END:VTIMEZONE
BEGIN:VEVENT
UID:64363336-3061-4632-b931-626435653464
DTSTAMP:20260422T170324Z
CATEGORIES:Fort-/Weiterbildung
CLASS:PUBLIC
DESCRIPTION;ALTREP="CID:<FFFF__=0ABBE548DFE235B58f9e8a93d@coffeebean.com>":
 10 Minuten\, die über ein ganzes Leben entscheiden können: Die meisten Neu
 geborenen passen sich problemlos an das neue Leben außerhalb des Mutterlei
 bes an. Aber manche brauchen Hilfe.Unser Newborn-Life-Support-Kurs vermitt
 elt die grundlegenden Kenntnisse und Fähigkeiten\, um Neugeborene sicher v
 ersorgen zu können. Dabei steht das praktische Erlernen der Erstversorgung
  im Vordergrund. In zahlreichen Szenarien besteht reichlich Gelegenheit\, 
 Erstbeurteilung\, Atemunterstützung oder auch Reanimationsmaßnahmen zu übe
 n.Dieser Kurs richtet sich an medizinische Mitarbeitende aller Fachabteilu
 ngen und Professionen\, die mit der Versorgung Neugeborener vertraut sein 
 müssen – aus Geburtshilfe\, Neonatologie/Pädiatrie\, Anästhesie oder dem R
 ettungsdienst\nLerninhalte\n\nTheorie der perinatalen Anpassung\nAlgorithm
 us der Erstversorgung\nGerätekunde\nVaskuläre Zugang: NVK und i.o. - Kanül
 e\nErweiterte Maßnahmen des Atemwegsmanagements\nReanimation bei der Erstv
 ersorgung\nBesonderheiten frühgeborener Kinder\nVersorgung von Kindern mit
  angeborenen Herfehlern\nAußerklinische Geburt\nPraktische Fallsimulatione
 n in zahlreichen Übungsszenarien\n\nUnser Angebot\n\n12 Stunden Kurs an 2 
 Tagen\nUnterricht in der Kleingruppe\nModernes Simulationsequipment\nVerpf
 legung/Mittagessen inklusive\n\nKursgebühr395\,- € (umsatzsteuerbefreit) Ä
 nderung vorbehalten\nDieser Kurs ist als Notarztfortbildung in NRW (NANo) 
 anerkannt. Der Kurs ist mit 18 Fortbildungspunkten von der AEKNO anerkannt
 .&nbsp\;
DTSTART:20240416T160200Z
DTEND:20240417T160200Z
GEO:00;0
LOCATION:Kindernotfall-Trainingszentrum der Asklepios Klinik Sankt Augustin
 \, Arnold-Janssen-Str. 29\, 53757 Sankt Augustin
ORGANIZER;CN=:mailto:v.oellers@asklepios.com
SEQUENCE:1
SUMMARY:Newborn Life Support nach ERC-Leitlinien
TRANSP:OPAQUE
URL:https://akademie.divi.de/alle/2287-newborn-life-support-nach-erc-leitli
 nien
END:VEVENT
END:VCALENDAR
