BEGIN:VCALENDAR
VERSION:2.0
PRODID:-//DIVI Akademie//NONSGML kigkonsult.se iCalcreator 2.41.92//
CALSCALE:GREGORIAN
METHOD:PUBLISH
UID:31666564-6363-4032-b836-666362653165
X-WR-CALNAME:iCagenda
X-WR-CALDESC:Event Management Extension for Joomla!
X-WR-RELCALID:3E26604A-50F4-4449-8B3E-E4F4932D05B5
X-WR-TIMEZONE:UTC
BEGIN:VTIMEZONE
TZID:UTC
END:VTIMEZONE
BEGIN:VEVENT
UID:39373462-3739-4661-a232-626661636231
DTSTAMP:20260424T170025Z
CATEGORIES:Kongress / Symposium
CLASS:PUBLIC
DESCRIPTION;ALTREP="CID:<FFFF__=0ABBE548DFE235B58f9e8a93d@coffeebean.com>":
 Jetzt noch Abstract einreichenSehr geehrtes Fachpublikum\, liebes Kollegiu
 m\,aufgrund vieler Nachfragen und um faire Chancen für alle Einreicher zu 
 garantieren\, haben wir entschlossen\, die Deadline für die Abstracteinrei
 chung der 19. DGINA Jahrestagung zu verlängern.Dies ermöglicht Ihnen\, Ihr
 em Beitrag den letzten Schliff zu geben und Ihre neuesten Forschungsergebn
 isse zu berüksichtigen. Erfahren Sie auf der Tagungshomepage mehr zu Schwe
 rpunkttehmen und Richtlinien.Klicken Sie hier um Ihren Abstract einzureich
 en!\nNeue Abstract Deadline: 14. Februar 2024\nJetzt Workshop buchenSeien 
 Sie schon vor Beginn des Kongresses dabei!Buchen Sie sich noch bis zum 31.
  März 2024 einen der begrenzten Workshopplätze und garantieren Sie so\, da
 ss die Workshops stattfinden können.Klicken Sie hier um sich für die Works
 hops anzumelden!\nWir freuen uns auf Ihre Beiträge!\nMit herzlichen Grüßen
 \nIhr DGINA Tagungsteam 2024
DTSTART:20240402T154500Z
DTEND:20240404T154500Z
GEO:00;0
LOCATION:Augsburg
ORGANIZER;CN=:mailto:dgina-kongress@conventus.de
SEQUENCE:1
SUMMARY:19. Jahrestagung der Deutschen Gesellschaft Interdisziplinäre Notfa
 ll- und Akutmedizin (DGINA) e.V.　
TRANSP:OPAQUE
URL:https://akademie.divi.de/alle/2252-19-jahrestagung-der-deutschen-gesell
 schaft-interdisziplinaere-notfall-und-akutmedizin-dgina-e-v
END:VEVENT
END:VCALENDAR
